BEGIN:VCALENDAR
VERSION:2.0
PRODID:-//Community Living Guelph Wellington - ECPv6.15.20//NONSGML v1.0//EN
CALSCALE:GREGORIAN
METHOD:PUBLISH
X-ORIGINAL-URL:https://clgw.ca
X-WR-CALDESC:Events for Community Living Guelph Wellington
REFRESH-INTERVAL;VALUE=DURATION:PT1H
X-Robots-Tag:noindex
X-PUBLISHED-TTL:PT1H
BEGIN:VTIMEZONE
TZID:America/Toronto
BEGIN:DAYLIGHT
TZOFFSETFROM:-0500
TZOFFSETTO:-0400
TZNAME:EDT
DTSTART:20220313T070000
END:DAYLIGHT
BEGIN:STANDARD
TZOFFSETFROM:-0400
TZOFFSETTO:-0500
TZNAME:EST
DTSTART:20221106T060000
END:STANDARD
BEGIN:DAYLIGHT
TZOFFSETFROM:-0500
TZOFFSETTO:-0400
TZNAME:EDT
DTSTART:20230312T070000
END:DAYLIGHT
BEGIN:STANDARD
TZOFFSETFROM:-0400
TZOFFSETTO:-0500
TZNAME:EST
DTSTART:20231105T060000
END:STANDARD
BEGIN:DAYLIGHT
TZOFFSETFROM:-0500
TZOFFSETTO:-0400
TZNAME:EDT
DTSTART:20240310T070000
END:DAYLIGHT
BEGIN:STANDARD
TZOFFSETFROM:-0400
TZOFFSETTO:-0500
TZNAME:EST
DTSTART:20241103T060000
END:STANDARD
BEGIN:DAYLIGHT
TZOFFSETFROM:-0500
TZOFFSETTO:-0400
TZNAME:EDT
DTSTART:20250309T070000
END:DAYLIGHT
BEGIN:STANDARD
TZOFFSETFROM:-0400
TZOFFSETTO:-0500
TZNAME:EST
DTSTART:20251102T060000
END:STANDARD
BEGIN:DAYLIGHT
TZOFFSETFROM:-0500
TZOFFSETTO:-0400
TZNAME:EDT
DTSTART:20260308T070000
END:DAYLIGHT
BEGIN:STANDARD
TZOFFSETFROM:-0400
TZOFFSETTO:-0500
TZNAME:EST
DTSTART:20261101T060000
END:STANDARD
END:VTIMEZONE
BEGIN:VEVENT
DTSTART;TZID=America/Toronto:20250821T120000
DTEND;TZID=America/Toronto:20250821T140000
DTSTAMP:20260422T090301
CREATED:20250805T141145Z
LAST-MODIFIED:20251209T151706Z
UID:10000001-1755777600-1755784800@clgw.ca
SUMMARY:Zumba Dance Party
DESCRIPTION:We’re excited to share that we’ve partnered with Shake It Off Studio to bring you a fun and upbeat Zumba class! 💃🕺 \nCome join us on Thursday\, August 21\, from 12:00 PM to 2:00 PM at the Royal Road parking lot. If the weather doesn’t cooperate\, no worries we’ll move it indoors. \nAfter the class\, we’ll have some light snacks and drinks so we can cool off and hang out together. This is a public event\, and everyone’s welcome\, so feel free to invite friends\, coworkers\, or anyone who enjoys music\, movement\, and fun! \nIf you’re planning to join\, please mark yourself as Attending in the Facebook group (click here). This helps us get a headcount and plan for snacks. \nWe can’t wait to see your dance moves!
URL:https://clgw.ca/event/zumba-dance-party/
CATEGORIES:CLGW Happenings,Community Happenings
ATTACH;FMTTYPE=image/jpeg:https://clgw.ca/wp-content/uploads/2025/08/ZumbaEventCover-169-e1756840893212.jpg
END:VEVENT
BEGIN:VEVENT
DTSTART;TZID=America/Toronto:20230710T100000
DTEND;TZID=America/Toronto:20230710T110000
DTSTAMP:20260422T090301
CREATED:20230629T163919Z
LAST-MODIFIED:20251209T151831Z
UID:10000047-1688983200-1688986800@clgw.ca
SUMMARY:Accessible Little Library - GRAND OPENING
DESCRIPTION:You’re invited to the GRAND OPENING of Guelph’s first Accessible Little Library.\nOn Monday\, July 10 at 10am\, we will be officially ‘opening’ Accessible Little Library at 197 Dufferin St. Guelph. \nStop by\, visit with friends and neighbours\, and help us open the ALL.
URL:https://clgw.ca/event/accessible-little-library-grand-opening-2/
CATEGORIES:CLGW Happenings,Community Happenings
ATTACH;FMTTYPE=image/jpeg:https://clgw.ca/wp-content/uploads/2023/06/GRANDOPENING_ALL-Guelph-web-final-e1756153309804.jpg
ORGANIZER;CN="People4People":MAILTO:p4pguelph@clgw.ca
END:VEVENT
BEGIN:VEVENT
DTSTART;TZID=America/Toronto:20230628T180000
DTEND;TZID=America/Toronto:20230628T190000
DTSTAMP:20260422T090301
CREATED:20230620T192157Z
LAST-MODIFIED:20251210T150303Z
UID:10000046-1687975200-1687978800@clgw.ca
SUMMARY:Webinar: Aging in Place presented by Council of CLO and People4People
DESCRIPTION:Webinar. Aging In Place And Ensuring People Stay Out Of Institutions\nThe Council of Community Living Ontario and People4People Self-Advocacy Group have teamed up to present an upcoming webinar. \nOn Wednesday\, June 28 at 6:00-7:00 pm\, join us online for a virtual webinar\, titled “Aging in Place and Ensuring People Stay Out of Institutions.” \nTo register\, please go to: bit.ly/CLO-AgingInPlace \nThis webinar is for Self- Advocates\, people supported\, their families\, and community members. During the webinar\, you’ll hear about many perspectives on the ongoing concern of aging in one’s own home and getting people who have an intellectual disability out of long-term care facilities. Members of Council of Community Living Ontario and People4People will share their perspectives on the way people are moved into large institution-like settings which are not fulfilling the needs of each person individually. The purpose of this webinar is to create awareness about the challenges faced by people who have a disability and realizing the significance of advocating together by collaborating and creating a collective voice to bring about a positive change. \nWe welcome you all to attend and please share this within your networks.
URL:https://clgw.ca/event/webinar-aging-in-place-presented-by-council-of-clo-and-people4people/
CATEGORIES:CLGW Happenings,Community Happenings
ATTACH;FMTTYPE=image/jpeg:https://clgw.ca/wp-content/uploads/2023/06/Webinar-1-e1765378960655.jpg
ORGANIZER;CN="People4People":MAILTO:p4pguelph@clgw.ca
END:VEVENT
BEGIN:VEVENT
DTSTART;VALUE=DATE:20230626
DTEND;VALUE=DATE:20230627
DTSTAMP:20260422T090301
CREATED:20230605T195847Z
LAST-MODIFIED:20251209T152353Z
UID:10000045-1687737600-1687823999@clgw.ca
SUMMARY:Swing Into Summer - Charity Golf Tournament
DESCRIPTION:Are you an avid golfer? Do you want to help a great charity? Join us for this charity golf tournament\, hosted by Joe Hamley and in support of Community Living Guelph Wellington. \nSwing into Summer – Charity Golf Tournament\nOn Monday June 26th\,  golfers will hit the links in support of people living with a disability. Swing into Summer golfers collect pledges from friends\, family and businesses\, and shoot for the greens to meet their goals. All pledges collected support CLGW. \n— \nRaising pledges! \nWe recommend that golfers collect a minimum of $200 in pledges. Your entry includes a meal that corresponds with your tee-off time\, water throughout your round\, cart\, and 18 holes of golf. You may choose to only play 9 holes based on your personal availability. \nTee-off times are flexible. \nAriss Valley Golf and Country Club will do their best to accommodate interested golfers and the tournament. \n— \nLooking to pledge a golfer? Golfer’s Pledge Pages will be listed below\, when ready. \nJoe Hamley – Help Joe raise funds for CLGW here: https://clgw.ca/swing-joe  \nCindy Kinnon – Support Cindy as she joins this great fundraiser: Donations can be made through Joe’s fundraising page https://clgw.ca/swing-joe \n— \nTo register as a golfer: contact Joe at joe@acornfinancial.ca or 905-659-2384 \nNeed a manual pledge collection form? Download it here. \nWant to spread the word? Share this webpage with friends and on social media! \n 
URL:https://clgw.ca/event/swing-into-summer-charity-golf-tournament/
CATEGORIES:CLGW Fundraiser,CLGW Happenings,Community Happenings
ATTACH;FMTTYPE=image/jpeg:https://clgw.ca/wp-content/uploads/2023/06/save-the-date-swing-into-summer-e1756153922765.jpg
END:VEVENT
BEGIN:VEVENT
DTSTART;TZID=America/Toronto:20230614T150000
DTEND;TZID=America/Toronto:20230614T180000
DTSTAMP:20260422T090301
CREATED:20230601T165931Z
LAST-MODIFIED:20251209T152511Z
UID:10000044-1686754800-1686765600@clgw.ca
SUMMARY:Chip in for Charity - Windshield Chip Repair Fundraiser
DESCRIPTION:Chip In For Charity – All-Brite Glass and Tint Windshield Chip Repair Fundraiser\nHave a stone chip in your windshield?\nStop by All-Brite Glass & Tint on Wednesday\, June 14th between 3-6pm – no appointment necessary – and make a cash/cheque/debit/credit donation to Community Living Guelph Wellington\, and get your windshield chip repaired for FREE! (an $100 value). Chip in for charity! You can also donate a portion of your insurance claim proceeds too! \nAll proceeds will be donated to Community Living Guelph Wellington\, a local non-profit that supports people with a disability to live their best life.
URL:https://clgw.ca/event/chip-in-for-charity-windshield-chip-repair-fundraiser/
CATEGORIES:CLGW Fundraiser,CLGW Happenings,Community Happenings
ATTACH;FMTTYPE=image/jpeg:https://clgw.ca/wp-content/uploads/2023/06/CLGW-all-brite-fundraising-chip-repair-e1756154106820.jpg
END:VEVENT
BEGIN:VEVENT
DTSTART;TZID=America/Toronto:20230612T183000
DTEND;TZID=America/Toronto:20230612T200000
DTSTAMP:20260422T090301
CREATED:20230405T201657Z
LAST-MODIFIED:20251209T153109Z
UID:10000043-1686594600-1686600000@clgw.ca
SUMMARY:Monday Mixer - Ice Cream Social - Guelph
DESCRIPTION:YOU are invited to CLGW’s Ice Cream Social. \nIt’s been a long three years! Want to get out there and connect again? Join us! \nRe-connect with old friends. Chat with new ones. Plus meet members of CLGW’s Family Engagement Committee. \n \nWhat\nMONDAY MIXER – ICE CREAM SOCIAL.\nMix and mingle outside. Or inside if the weather is bad. \nWho\nYou! Family. Loved Ones. Friends. Adult siblings. Supporters. Anyone who wants to connect. Or to know more about Community Living Guelph Wellington. \nWhen + Where\nMonday June 12 at 6:30pm in Guelph. Stop by 8 Royal Road.. \nOther times and locations: \nMonday May 29 at 6:30 pm in Fergus. Stop by 280 St Patrick St W.. \nMonday June 5 at 6:30pm in Harriston. Stop by 106 Thomas St.. \nRSVP you’re coming!\nFill out your details at https://forms.gle/rUPUJRAX3LyB2wAX9. This helps us plan for cold treats. \n— \nMonday Mixers are being hosted by CLGW’s Family Engagement Committee. This event is for everyone – people supported\, their families and friends\, community members interested about CLGW\, donors\, and more. Join in\, re-connect with old friends and make some new ones. You’re welcome here. \nThe Ice Cream Social is in-person only. Pending good weather\, it will be outside. The event will run in bad weather and an indoor space will be used if necessary. \nThis event is FREE of charge. Cold treats are provided thanks to Community Living Guelph Wellington and generous donors. \nCommunity Living Guelph Wellington is dedicated to providing an inclusive environment for everyone. If you need an accommodation to fully participate in this event\, please contact info@clgw.ca. \nSpread the word! Share this event post\, or download and share the event poster.
URL:https://clgw.ca/event/monday-mixer-ice-cream-social-guelph/
CATEGORIES:CLGW Happenings
ATTACH;FMTTYPE=image/jpeg:https://clgw.ca/wp-content/uploads/2023/04/ice-cream-social_WEB-SOCIAL-scaled.jpg
END:VEVENT
BEGIN:VEVENT
DTSTART;TZID=America/Toronto:20230605T183000
DTEND;TZID=America/Toronto:20230605T200000
DTSTAMP:20260422T090301
CREATED:20230405T201354Z
LAST-MODIFIED:20251209T152957Z
UID:10000042-1685989800-1685995200@clgw.ca
SUMMARY:Monday Mixer - Ice Cream Social - Harriston
DESCRIPTION:YOU are invited to CLGW’s Ice Cream Social. \nIt’s been a long three years! Want to get out there and connect again? Join us! \nRe-connect with old friends. Chat with new ones. Plus meet members of CLGW’s Family Engagement Committee. \n \nWhat\nMONDAY MIXER – ICE CREAM SOCIAL.\nMix and mingle outside. Or inside if the weather is bad. \nWho\nYou! Family. Loved Ones. Friends. Adult siblings. Supporters. Anyone who wants to connect. Or to know more about Community Living Guelph Wellington. \nWhen + Where\nMonday June 5 at 6:30pm in Harriston. Stop by 106 Thomas St.. \nOther times and locations: \nMonday May 29 at 6:30 pm in Fergus. Stop by 280 St Patrick St W.. \nMonday June 12 at 6:30pm in Guelph. Stop by 8 Royal Road.. \nRSVP you’re coming!\nFill out your details at https://forms.gle/rUPUJRAX3LyB2wAX9. This helps us plan for cold treats. \n— \nMonday Mixers are being hosted by CLGW’s Family Engagement Committee. This event is for everyone – people supported\, their families and friends\, community members interested about CLGW\, donors\, and more. Join in\, re-connect with old friends and make some new ones. You’re welcome here. \nThe Ice Cream Social is in-person only. Pending good weather\, it will be outside. The event will run in bad weather and an indoor space will be used if necessary. \nThis event is FREE of charge. Cold treats are provided thanks to Community Living Guelph Wellington and generous donors. \nCommunity Living Guelph Wellington is dedicated to providing an inclusive environment for everyone. If you need an accommodation to fully participate in this event\, please contact info@clgw.ca. \nSpread the word! Share this event post\, or download and share the event poster.
URL:https://clgw.ca/event/monday-mixer-ice-cream-social-harriston/
CATEGORIES:CLGW Happenings
ATTACH;FMTTYPE=image/jpeg:https://clgw.ca/wp-content/uploads/2023/04/ice-cream-social_WEB-SOCIAL-scaled.jpg
END:VEVENT
BEGIN:VEVENT
DTSTART;TZID=America/Toronto:20230529T183000
DTEND;TZID=America/Toronto:20230529T200000
DTSTAMP:20260422T090301
CREATED:20230405T190823Z
LAST-MODIFIED:20251209T153236Z
UID:10000041-1685385000-1685390400@clgw.ca
SUMMARY:Monday Mixer - Ice Cream Social - Fergus
DESCRIPTION:YOU are invited to CLGW’s Ice Cream Social. \nIt’s been a long three years! Want to get out there and connect again? Join us! \nRe-connect with old friends. Chat with new ones. Plus meet members of CLGW’s Family Engagement Committee. \n \nWhat\nMONDAY MIXER – ICE CREAM SOCIAL.\nMix and mingle outside. Or inside if the weather is bad. \nWho\nYou! Family. Loved Ones. Friends. Adult siblings. Supporters. Anyone who wants to connect. Or to know more about Community Living Guelph Wellington. \nWhen + Where\nMonday May 29 at 6:30 pm in Fergus. Stop by 280 St Patrick St W.. \nOther times and locations: \nMonday June 5 at 6:30pm in Harriston. Stop by 106 Thomas St..\nMonday June 12 at 6:30pm in Guelph. Stop by 8 Royal Road.. \nRSVP you’re coming!\nFill out your details at https://forms.gle/rUPUJRAX3LyB2wAX9. This helps us plan for cold treats. \n— \nMonday Mixers are being hosted by CLGW’s Family Engagement Committee. This event is for everyone – people supported\, their families and friends\, community members interested about CLGW\, donors\, and more. Join in\, re-connect with old friends and make some new ones. You’re welcome here. \nThe Ice Cream Social is and in-person event only.  Pending good weather\, it will be outside. The event will run in bad weather and an indoor space will be used if necessary. \nThis event is FREE of charge. Cold treats are provided thanks to Community Living Guelph Wellington and generous donors. \nCommunity Living Guelph Wellington is dedicated to providing an inclusive environment for everyone. If you need an accommodation to fully participate in this event\, please contact info@clgw.ca. \nSpread the word! Share this event post\, or download and share the event poster.
URL:https://clgw.ca/event/monday-mixer-ice-cream-social-fergus/
CATEGORIES:CLGW Happenings
ATTACH;FMTTYPE=image/jpeg:https://clgw.ca/wp-content/uploads/2023/04/ice-cream-social_WEB-SOCIAL-scaled.jpg
END:VEVENT
END:VCALENDAR